BEGIN:VCALENDAR
VERSION:2.0
PRODID:-//ChamberMaster//Event Calendar 2.0//EN
METHOD:PUBLISH
X-PUBLISHED-TTL:P3D
REFRESH-INTERVAL:P3D
CALSCALE:GREGORIAN
BEGIN:VEVENT
DTSTART:20170525T010000Z
DTEND:20170525T040000Z
X-MICROSOFT-CDO-ALLDAYEVENT:FALSE
SUMMARY:CONNECT:2017
DESCRIPTION:Connecting Community and LGBT Business in Silicon Valley\n\n\n\n* CONNECT is attended by elected officials\, major corporations with supplier diversity programs or LGBT employee resource groups\, non-profit organizations\, LGBT-owned businesses and allies\, as well as members of the community.\n\n\n\n* Our LGBT-focused forum provides a unique platform to communicate your message\, whether it is on community engagement\, supplier diversity or your products/services.\n\n\n\n* Hosted at Justin?s Santa Clara\, CONNECT:2017 will feature delicious appetizers by award-winner Chef Justin Perez and a no-host bar.
X-ALT-DESC;FMTTYPE=text/html:<span style="color:#cc0099\;"><strong><em><span style="font-size: 12px\;">Connecting Community and LGBT Business in Silicon Valley</span></em></strong></span><br />\n<br />\n* CONNECT is attended by elected officials\, major corporations with supplier diversity programs or LGBT employee resource groups\, non-profit organizations\, LGBT-owned businesses and allies\, as well as members of the community.<br />\n<br />\n* Our LGBT-focused forum provides a unique platform to communicate your message\, whether it is on community engagement\, supplier diversity or your products/services.<br />\n<br />\n* Hosted at Justin?s Santa Clara\, CONNECT:2017 will feature delicious appetizers by award-winner Chef Justin Perez and a no-host bar.
LOCATION:Justin's Catering & Event Productions 1285 Homestead Rd.\, Santa Clara\, CA 95050
UID:e.2568.34
SEQUENCE:3
DTSTAMP:20260421T093324Z
URL:http://rainbowchamberca.chambermaster.com/events/details/connect-2017-34
END:VEVENT

END:VCALENDAR
