BEGIN:VCALENDAR
VERSION:2.0
PRODID:-//ChamberMaster//Event Calendar 2.0//EN
METHOD:PUBLISH
X-PUBLISHED-TTL:P3D
REFRESH-INTERVAL:P3D
CALSCALE:GREGORIAN
BEGIN:VEVENT
DTSTART;VALUE=DATE:20161110
DTEND;VALUE=DATE:20161201
TRANSP:TRANSPARENT
X-MICROSOFT-CDO-ALLDAYEVENT:TRUE
SUMMARY:LIGHT THE PALMS RED CAMPAIGN
DESCRIPTION:Join our Campaign to\n\nLight the Palms Red\n\nin honor of World AIDS Day.\n\nWorld AIDS Day is held on the 1st of December each year and is an opportunity for people worldwide to unite in the fight against HIV\, show their support for people living with HIV\, and to commemorate the loved ones we have lost. World AIDS Day was the first global health day\, held in 1988. Traditionally\, many cities across the country and globe light up buildings in red as a prominent display to help raise awareness about this continuing health crisis.\n\n\n\nWith support from the San Jose Downtown Association\, the Rainbow Chamber is seeking funding from our membership and friends to light the Circle of Palms in downtown San Jose on the evenings of 11/30 and 12/1.  Your donation can be made in honor of a loved one or can be anonymous.  There is also a space to leave a comment if you wish.   We will recognize your contribution and comments at the end of the campaign. All monies contributed will be applied to the cost of the lighting with any excess contributed to The Health Trust's HIV/AIDS programs. Working with a coalition of local LGBT groups and officials\, we hope to create an annual program of awareness and remembrance in Silicon Valley.\n\n\n\nPlease click on the Register Now button above and help us\n\nLight the Palms Red!
X-ALT-DESC;FMTTYPE=text/html:<p style="font-family: Arial\, Helvetica\, sans-serif\; line-height: 22px\; font-size: 14pt\; color: rgb(53\, 184\, 130)\;"><strong><span style="color: rgb(0\, 0\, 0)\;">Join our Campaign to</span><br />\n<span style="color:#FF0000\;"><em>Light the Palms</em></span><span style="font-size:18px\;"><span style="color:#FF0000\;"> <em>Red</em></span></span><br />\n<span style="color: rgb(0\, 0\, 0)\;">in honor of World AIDS Day.</span></strong></p>\n\n<div style="color: rgb(85\, 85\, 85)\; font-family: Arial\, Helvetica\, sans-serif\; font-size: 14.6667px\; line-height: 22px\;"><span style="font-size:12px\;"><span style="color: rgb(0\, 0\, 0)\;"><span style="font-family: tahoma\;">World AIDS Day is held&nbsp\;on the&nbsp\;1st of December&nbsp\;each year and is an opportunity for people worldwide to unite in the fight against HIV\, show their support for people living with HIV\,&nbsp\;and to commemorate the loved ones we have lost. World AIDS Day was the first global health day\, held in 1988.&nbsp\;Traditionally\, many cities across the country and globe light up buildings in red as a prominent display to help raise awareness about this continuing health crisis.<br />\n<br />\nWith support from the San Jose Downtown Association\, the Rainbow Chamber is seeking funding from our membership and friends to light the Circle of Palms in downtown San Jose on the evenings of 11/30 and 12/1.&nbsp\; Your donation can be made in honor of a loved one or can be anonymous.&nbsp\; There is also a space to leave a comment if you wish.&nbsp\;&nbsp\; We will recognize your contribution and comments at the end of the campaign. All monies contributed will be applied to the cost of the lighting with any excess contributed to The Health Trust&#39\;s HIV/AIDS programs. Working with a coalition of local LGBT groups and officials\, we hope to create an annual program of awareness and remembrance in Silicon Valley.<br />\n<br />\nPlease click on the <strong>Register Now </strong>button above and<em><strong> </strong></em>help us</span></span><br />\n<span style="color:#FF0000\;"><span style="font-family: tahoma\;"><em><strong><span style="font-size:14px\;">Light the Palms Red!</span></strong></em></span></span></span><br />\n&nbsp\;</div>\n
LOCATION:Downtown Ice 120 S. Market St. San Jose\, CA 95113
UID:e.2568.25
SEQUENCE:3
DTSTAMP:20260425T182826Z
URL:http://rainbowchamberca.chambermaster.com/events/details/light-the-palms-red-campaign-25
END:VEVENT

END:VCALENDAR
